BEGIN:VCALENDAR
METHOD:PUBLISH
VERSION:2.0
CALSCALE:GREGORIAN
PRODID:-//NONSGML WPForms//NONSGML Sugar Calendar Feeds v3.10.0//EN
X-WR-CALNAME:Practice Room Possiblities with Adrienne Starrs - Part 2
X-WR-CALDESC:Seacoast Academy of Music
X-WR-TIMEZONE:America/New_York
BEGIN:VTIMEZONE
TZID:America/New_York
BEGIN:DAYLIGHT
TZOFFSETFROM:-0500
TZOFFSETTO:-0400
DTSTART:20240310T070000
TZNAME:EDT
END:DAYLIGHT
END:VTIMEZONE
BEGIN:VTIMEZONE
TZID:America/New_York
BEGIN:DAYLIGHT
TZOFFSETFROM:-0500
TZOFFSETTO:-0400
DTSTART:20240310T070000
TZNAME:EDT
END:DAYLIGHT
END:VTIMEZONE
BEGIN:VEVENT
SUMMARY:Practice Room Possiblities with Adrienne Starrs - Part 2
DESCRIPTION:All ages  |  $20 per student\n\n\n\nIs your practice room 
 a place of inspiration? Discovery? Accomplishment? Do you struggle to FI
 ND TIME? In this two-part series\, we will explore some creative approac
 hes to this daunting task. This will be a participatory event for all ag
 es and stages. Bring any music you would like and we will PRACTICE THE A
 RT OF POSSIBILITY. (sharing techniques from “The Art of Possibility”
  by Benjamin and Rosamund Stone Zander)\n\n\n\nRegister Here
URL;VALUE=URI:https://seacoastacademyofmusic.org/events/the-art-of-possi
 bility-in-the-practice-room-with-adrienne-starrs-part-2/
UID:urn:uuid:795e4d7e-5819-494b-b157-4560a9c707b8
STATUS:CONFIRMED
ORGANIZER:
DTSTAMP:20260421T125312Z
DTSTART;TZID=America/New_York:20240730T183000
DTEND;TZID=America/New_York:20240730T194500
END:VEVENT
END:VCALENDAR