BEGIN:VCALENDAR
METHOD:PUBLISH
VERSION:2.0
CALSCALE:GREGORIAN
PRODID:-//NONSGML WPForms//NONSGML Sugar Calendar Feeds v3.10.0//EN
X-WR-CALNAME:Practice Room Possibilities with Adrienne Starrs - Part 1
X-WR-CALDESC:Seacoast Academy of Music
X-WR-TIMEZONE:America/New_York
BEGIN:VTIMEZONE
TZID:America/New_York
BEGIN:DAYLIGHT
TZOFFSETFROM:-0500
TZOFFSETTO:-0400
DTSTART:20240310T070000
TZNAME:EDT
END:DAYLIGHT
END:VTIMEZONE
BEGIN:VTIMEZONE
TZID:America/New_York
BEGIN:DAYLIGHT
TZOFFSETFROM:-0500
TZOFFSETTO:-0400
DTSTART:20240310T070000
TZNAME:EDT
END:DAYLIGHT
END:VTIMEZONE
BEGIN:VEVENT
SUMMARY:Practice Room Possibilities with Adrienne Starrs - Part 1
DESCRIPTION:All ages  |  $20 per student\n\nIs your practice room a pl
 ace of inspiration? Discovery? Accomplishment? Do you struggle to FIND T
 IME? In this two-part series\, we will explore some creative approaches 
 to this daunting task. This will be a participatory event for all ages a
 nd stages. Bring any music you would like and we will PRACTICE THE ART O
 F POSSIBILITY. (sharing techniques from “The Art of Possibility” by 
 Benjamin and Rosamund Stone Zander)\n\nRegister Here
URL;VALUE=URI:https://seacoastacademyofmusic.org/events/the-art-of-possi
 bility-in-the-practice-room-with-adrienne-starrs-part-1/
UID:urn:uuid:c8764b63-9218-4521-b9b2-281e351c983b
STATUS:CONFIRMED
ORGANIZER:
DTSTAMP:20260421T160624Z
DTSTART;TZID=America/New_York:20240723T183000
DTEND;TZID=America/New_York:20240723T194500
END:VEVENT
END:VCALENDAR