BEGIN:VCALENDAR
METHOD:PUBLISH
VERSION:2.0
CALSCALE:GREGORIAN
PRODID:-//NONSGML WPForms//NONSGML Sugar Calendar Feeds v3.10.0//EN
X-WR-CALNAME:Student Recital
X-WR-CALDESC:Seacoast Academy of Music
X-WR-TIMEZONE:America/New_York
BEGIN:VTIMEZONE
TZID:America/New_York
BEGIN:STANDARD
TZOFFSETFROM:-0400
TZOFFSETTO:-0500
DTSTART:20231105T060000
TZNAME:EST
END:STANDARD
END:VTIMEZONE
BEGIN:VTIMEZONE
TZID:America/New_York
BEGIN:STANDARD
TZOFFSETFROM:-0400
TZOFFSETTO:-0500
DTSTART:20231105T060000
TZNAME:EST
END:STANDARD
END:VTIMEZONE
BEGIN:VEVENT
SUMMARY:Student Recital
DESCRIPTION:Join us for an end-of-the-semester student recital at Centen
 nial Hall!\n\nAdmission is free\n\nStudents - please contact your teache
 rs to sign up!
URL;VALUE=URI:https://seacoastacademyofmusic.org/events/student-recital/
UID:urn:uuid:8dc9caf0-fe87-40d0-972a-2672f5f36cef
STATUS:CONFIRMED
ORGANIZER:
DTSTAMP:20260425T021722Z
DTSTART;TZID=America/New_York:20231209T120000
DTEND;TZID=America/New_York:20231209T140000
END:VEVENT
END:VCALENDAR