BEGIN:VCALENDAR
METHOD:PUBLISH
VERSION:2.0
CALSCALE:GREGORIAN
PRODID:-//NONSGML WPForms//NONSGML Sugar Calendar Feeds v3.10.0//EN
X-WR-CALNAME:Music Theory Express Class
X-WR-CALDESC:Seacoast Academy of Music
X-WR-TIMEZONE:America/New_York
BEGIN:VTIMEZONE
TZID:America/New_York
BEGIN:STANDARD
TZOFFSETFROM:-0400
TZOFFSETTO:-0500
DTSTART:20231105T060000
TZNAME:EST
END:STANDARD
END:VTIMEZONE
BEGIN:VTIMEZONE
TZID:America/New_York
BEGIN:STANDARD
TZOFFSETFROM:-0400
TZOFFSETTO:-0500
DTSTART:20231105T060000
TZNAME:EST
END:STANDARD
END:VTIMEZONE
BEGIN:VEVENT
SUMMARY:Music Theory Express Class
DESCRIPTION:STUDENTS MUST REGISTER IN ADVANCE\n\nRegistration closes 9/9
 \n\nRegister Here
URL;VALUE=URI:https://seacoastacademyofmusic.org/events/music-theory-exp
 ress-class-2-2-2-2-2/
UID:urn:uuid:0e3c7f76-c69f-4bea-891f-37ed7368a368
STATUS:CONFIRMED
ORGANIZER:
DTSTAMP:20260422T090547Z
DTSTART;TZID=America/New_York:20231121T181500
DTEND;TZID=America/New_York:20231121T190000
END:VEVENT
END:VCALENDAR