BEGIN:VCALENDAR
METHOD:PUBLISH
VERSION:2.0
CALSCALE:GREGORIAN
PRODID:-//NONSGML WPForms//NONSGML Sugar Calendar Feeds v3.10.0//EN
X-WR-CALNAME:Introduction to Improvisation with Robert McClung
X-WR-CALDESC:Seacoast Academy of Music
X-WR-TIMEZONE:America/New_York
BEGIN:VTIMEZONE
TZID:America/New_York
BEGIN:DAYLIGHT
TZOFFSETFROM:-0500
TZOFFSETTO:-0400
DTSTART:20240310T070000
TZNAME:EDT
END:DAYLIGHT
END:VTIMEZONE
BEGIN:VTIMEZONE
TZID:America/New_York
BEGIN:DAYLIGHT
TZOFFSETFROM:-0500
TZOFFSETTO:-0400
DTSTART:20240310T070000
TZNAME:EDT
END:DAYLIGHT
END:VTIMEZONE
BEGIN:VEVENT
SUMMARY:Introduction to Improvisation with Robert McClung
DESCRIPTION:Ages 12+  |  $20 per student\n\nImprovisation plays a key 
 role in many different genres of music\, such as Blues\, Jazz and Rock &
 amp\; Roll. This class aims to solve the mysteries of improvisation for 
 beginners. If you can play a scale\, or even a few single notes\, you ca
 n begin to improvise. In this class you will learn a few basic scales th
 at are commonly used in improvisation\, and you will get the chance to a
 pply them yourself by improvising over backing tracks in different style
 s. You’ll also learn about special techniques that many notable player
 s have used in their improvised explorations over the years.\n\nRegister
  Here
URL;VALUE=URI:https://seacoastacademyofmusic.org/events/introduction-to-
 improvisation-with-robert-mcclung/
UID:urn:uuid:e565fc16-43a6-443a-91e7-1efe6c266b3e
STATUS:CONFIRMED
ORGANIZER:
DTSTAMP:20260421T112405Z
DTSTART;TZID=America/New_York:20240805T180000
DTEND;TZID=America/New_York:20240805T193000
END:VEVENT
END:VCALENDAR