BEGIN:VCALENDAR
METHOD:PUBLISH
VERSION:2.0
CALSCALE:GREGORIAN
PRODID:-//NONSGML WPForms//NONSGML Sugar Calendar Feeds v3.10.0//EN
X-WR-CALNAME:Fall Registration Opens
X-WR-CALDESC:Seacoast Academy of Music
X-WR-TIMEZONE:America/New_York
BEGIN:VTIMEZONE
TZID:America/New_York
BEGIN:DAYLIGHT
TZOFFSETFROM:-0500
TZOFFSETTO:-0400
DTSTART:20240310T070000
TZNAME:EDT
END:DAYLIGHT
END:VTIMEZONE
BEGIN:VTIMEZONE
TZID:America/New_York
BEGIN:DAYLIGHT
TZOFFSETFROM:-0500
TZOFFSETTO:-0400
DTSTART:20240310T070000
TZNAME:EDT
END:DAYLIGHT
END:VTIMEZONE
BEGIN:VEVENT
SUMMARY:Fall Registration Opens
DESCRIPTION:Register now for the Fall Semester!\n\nClick here to registe
 r\n\nOur fall semester will take place from September 3 to January 10.
URL;VALUE=URI:https://seacoastacademyofmusic.org/events/fall-registratio
 n-opens/
UID:urn:uuid:91cef7f0-5551-43ba-9316-648594d73da1
STATUS:CONFIRMED
ORGANIZER:
DTSTAMP:20260421T093937Z
DTSTART;VALUE=DATE:20240722
END:VEVENT
END:VCALENDAR