BEGIN:VCALENDAR
METHOD:PUBLISH
VERSION:2.0
CALSCALE:GREGORIAN
PRODID:-//NONSGML WPForms//NONSGML Sugar Calendar Feeds v3.10.0//EN
X-WR-CALNAME:Acoustic Roots Orchestra with Shelby Smith
X-WR-CALDESC:Seacoast Academy of Music
X-WR-TIMEZONE:America/New_York
BEGIN:VTIMEZONE
TZID:America/New_York
BEGIN:STANDARD
TZOFFSETFROM:-0400
TZOFFSETTO:-0500
DTSTART:20241103T060000
TZNAME:EST
END:STANDARD
END:VTIMEZONE
BEGIN:VTIMEZONE
TZID:America/New_York
BEGIN:STANDARD
TZOFFSETFROM:-0400
TZOFFSETTO:-0500
DTSTART:20241103T060000
TZNAME:EST
END:STANDARD
END:VTIMEZONE
BEGIN:VEVENT
SUMMARY:Acoustic Roots Orchestra with Shelby Smith
DESCRIPTION:Acoustic Roots Orchestra with Shelby Smith\n\nSaturdays 10/1
 9 through 12/14 (8 classes total\, no class on 11/30)  –  10:00am-11
 :00am\n\nGrades 3-12  –  Fiddle\, violin\, banjo\, mandolin\, cello\
 , viola\, and guitar students of all levels welcome!\n\n$200 per student
 \nThe Acoustic Roots Orchestra is a great opportunity for school-aged mu
 sicians in grades 3-12 to play music together. This group is an affiliat
 e of the New England Fiddle Ensemble and is open to students of any expe
 rience level on fiddle\, banjo\, mandolin\, cello\, viola\, guitar\, and
  more. Students will learn different kinds of music by ear in rehearsal
 s each week and perform together in a final concert. ARO members will ex
 plore roots music genres including country\, bluegrass\, Western swing\,
  old-time\, Cajun\, Celtic rock\, and more! Members will also be eligibl
 e to join in on New England Fiddle Ensemble rehearsals and performances.
 \nClick here to register online.
URL;VALUE=URI:https://seacoastacademyofmusic.org/events/acoustic-roots-o
 rchestra-with-shelby-smith-2-2-2-2/
UID:urn:uuid:2946bd37-1189-4715-b445-1df5dff8e9fb
STATUS:CONFIRMED
ORGANIZER:
DTSTAMP:20260426T001506Z
DTSTART;TZID=America/New_York:20241116T100000
DTEND;TZID=America/New_York:20241116T110000
END:VEVENT
END:VCALENDAR